Workbook
Name ihd: [1]Sheet2!$A$1:$A$3

Sheet Project Plan
A1: Smart Energy GB Project Plan 2021
A2: What type of activities are eligible for funding? Direct Activities - activities that have direct engagement with an individual on the subject of smart meters. For example: face to face advice, advice given by an individual over the phone or online and events. Indirect Activities - these are activities which are delivered indirectly i.e. by broadcasting to an unspecified audience but which should still have the aim of capturing the intended target group. For example, sending out a newsletter about smart meters to all of a housing assocation’s tenants, of which 75% are in the target group. Indirect activities can include: distributing leaflets, displaying posters, newsletters, radio and newspaper adverts, websites or social media. Please be careful when estimating the number of people reached through social media - you should use a clear rationale. You should refer to the Guidance document on how to calculate indirect reach using an impressions model. Training - your project may include training colleagues or external stakeholders about smart meters. Please note, we only need to capture the total number of people trained under this activity, not those in the target group.
A3: Project Plan must be submitted with your Application and other supporting documents
A5: Organisation Name:
A7: What is the activity | B7: What is the activity category? | C7: Direct / Indirect Activity | D7: Activity Type B2C - business to consumer (i.e. activity is delivered to consumers / householders) B2B - business to business (i.e. activity is delivered to professionals or peers) | E7: Activity Start Date (from 01/04/2021) | F7: Activity End Date (up to 08/12/21) | G7: Where will the activity take place? Please include area if known | H7: Predicted total reach of the activity (including people not in the target group) | I7: Predicted reach to the target group only | J7: Who will be responsible for delivering your activity? | K7: Activity cost £ | L7: Amount requested from Smart Energy GB in Communities £ | M7: Breakdown of costs | N7: Notes | O7: Category | P7: erq
A8: Overheads - maximum 10% of total cost (Optional) | B8: Overheads | O8: =IFERROR(IF(B8=0,0,VLOOKUP($B8,'Data Source'!$A$3:$E$10,5,FALSE)),"ND") -> ND
A9: Printing of consumer survey - maximum of £250 (Optional) | B9: Consumer Survey | O9: =IFERROR(IF(B9=0,0,VLOOKUP($B9,'Data Source'!$A$3:$E$10,5,FALSE)),"ND") -> ND
A10: In-home display unit (IHD) maximum of 2 @ £24 each (Optional) | B10: IHD | O10: =IFERROR(IF(B10=0,0,VLOOKUP($B10,'Data Source'!$A$3:$E$10,5,FALSE)),"ND") -> ND
C11: =IFERROR(VLOOKUP(B11,'Data Source'!$A$3:$D$9,4,FALSE),"") | O11: =IFERROR(IF(B11=0,0,VLOOKUP($B11,'Data Source'!$A$3:$E$10,5,FALSE)),"ND") -> 0
C12: =IFERROR(VLOOKUP(B12,'Data Source'!$A$3:$D$9,4,FALSE),"") | O12: =IFERROR(IF(B12=0,0,VLOOKUP($B12,'Data Source'!$A$3:$E$10,5,FALSE)),"ND") -> 0
C13: =IFERROR(VLOOKUP(B13,'Data Source'!$A$3:$D$9,4,FALSE),"") | O13: =IFERROR(IF(B13=0,0,VLOOKUP($B13,'Data Source'!$A$3:$E$10,5,FALSE)),"ND") -> 0
C14: =IFERROR(VLOOKUP(B14,'Data Source'!$A$3:$D$9,4,FALSE),"") | O14: =IFERROR(IF(B14=0,0,VLOOKUP($B14,'Data Source'!$A$3:$E$10,5,FALSE)),"ND") -> 0
C15: =IFERROR(VLOOKUP(B15,'Data Source'!$A$3:$D$9,4,FALSE),"") | O15: =IFERROR(IF(B15=0,0,VLOOKUP($B15,'Data Source'!$A$3:$E$10,5,FALSE)),"ND") -> 0
C16: =IFERROR(VLOOKUP(B16,'Data Source'!$A$3:$D$9,4,FALSE),"") | O16: =IFERROR(IF(B16=0,0,VLOOKUP($B16,'Data Source'!$A$3:$E$10,5,FALSE)),"ND") -> 0
C17: =IFERROR(VLOOKUP(B17,'Data Source'!$A$3:$D$9,4,FALSE),"") | O17: =IFERROR(IF(B17=0,0,VLOOKUP($B17,'Data Source'!$A$3:$E$10,5,FALSE)),"ND") -> 0
C18: =IFERROR(VLOOKUP(B18,'Data Source'!$A$3:$D$9,4,FALSE),"") | O18: =IFERROR(IF(B18=0,0,VLOOKUP($B18,'Data Source'!$A$3:$E$10,5,FALSE)),"ND") -> 0
C19: =IFERROR(VLOOKUP(B19,'Data Source'!$A$3:$D$9,4,FALSE),"") | O19: =IFERROR(IF(B19=0,0,VLOOKUP($B19,'Data Source'!$A$3:$E$10,5,FALSE)),"ND") -> 0
C20: =IFERROR(VLOOKUP(B20,'Data Source'!$A$3:$D$9,4,FALSE),"") | O20: =IFERROR(IF(B20=0,0,VLOOKUP($B20,'Data Source'!$A$3:$E$10,5,FALSE)),"ND") -> 0
C21: =IFERROR(VLOOKUP(B21,'Data Source'!$A$3:$D$9,4,FALSE),"") | O21: =IFERROR(IF(B21=0,0,VLOOKUP($B21,'Data Source'!$A$3:$E$10,5,FALSE)),"ND") -> 0
C22: =IFERROR(VLOOKUP(B22,'Data Source'!$A$3:$D$9,4,FALSE),"") | O22: =IFERROR(IF(B22=0,0,VLOOKUP($B22,'Data Source'!$A$3:$E$10,5,FALSE)),"ND") -> 0
... C25: =IFERROR(VLOOKUP(B25,'Data Source'!$A$3:$D$9,4,FALSE),"") | O25: =IFERROR(IF(B25=0,0,VLOOKUP($B25,'Data Source'!$A$3:$E$10,5,FALSE)),"ND") -> 0
A26: Total number of consumers | H26: =SUM(H11:H25) -> 0 | I26: =SUM(I11:I25) -> 0 | J26: Total Cost | K26: =SUM(K8:K25) -> 0 | L26: =SUM(L8:L25) -> 0
K27: Maximum Overheads Allowed | L27: =SUM(L9:L25)*0.1 -> 0
H30: Predicted total reach of the activity | I30: Predicted reach to the target group only | L30: Funding allocated to each category | O30: Category
H31: =SUMIF($O$8:$O$25,$O31,H$8:H$25) -> 0 | I31: =SUMIF($O$8:$O$25,$O31,I$8:I$25) -> 0 | L31: =SUMIF($O$8:$O$25,$O31,L$8:L$25) -> 0 | O31: 1
H32: =SUMIF($O$8:$O$25,$O32,H$8:H$25) -> 0 | I32: =SUMIF($O$8:$O$25,$O32,I$8:I$25) -> 0 | L32: =SUMIF($O$8:$O$25,$O32,L$8:L$25) -> 0 | O32: E
H33: =SUMIF($O$8:$O$25,$O33,H$8:H$25) -> 0 | I33: =SUMIF($O$8:$O$25,$O33,I$8:I$25) -> 0 | L33: =SUMIF($O$8:$O$25,$O33,L$8:L$25) -> 0 | O33: T
H34: =SUMIF($O$8:$O$25,$O34,H$8:H$25) -> 0 | I34: =SUMIF($O$8:$O$25,$O34,I$8:I$25) -> 0 | L34: =SUMIF($O$8:$O$25,$O34,L$8:L$25) -> 0 | O34: IN
H35: =SUMIF($O$8:$O$25,$O35,H$8:H$25) -> 0 | I35: =SUMIF($O$8:$O$25,$O35,I$8:I$25) -> 0 | L35: =SUMIF($O$8:$O$25,$O35,L$8:L$25) -> 0 | O35: ND
H36: =SUM(H31:H35) -> 0 | I36: =SUM(I31:I35) -> 0 | L36: =SUM(L31:L35) -> 0
H37: =H36-H26 -> 0 | I37: =I36-I26 -> 0 | K37: check | L37: =L36-L26 -> 0
I40: Scoring grid summary
H41: Funding allocated to each category | I41: Total Reach | J41: Target Group | K41: VfM Total Reach | L41: VfM Target Group | M41: % Activity to Target Group
G43: Direct and Indirect | H43: =H44+H46 -> 0
G44: Direct activity | H44: =L31+L32+L33 -> 0
G45: Non delivery | H45: =L35 -> 0
G46: Indirect activity | H46: =L34 -> 0
G47: Direct activity plus % not allocated | H47: =H44+(H45*H44)/(L36-L35) -> #DIV/0! | I47: =SUM(H31:H33) -> 0 | J47: =SUM(I31:I33) -> 0 | K47: =H47/I47 -> #DIV/0! | L47: =H47/J47 -> #DIV/0! | M47: =J47/I47 -> #DIV/0! | N47: direct total
G48: Indirect activity plus % not allocated | H48: =H46+(H45*H46)/(L36-H45) -> #DIV/0! | I48: =H34 -> 0 | J48: =I34 -> 0 | K48: =H48/I48 -> #DIV/0! | L48: =H48/J48 -> #DIV/0! | M48: =J48/I48 -> #DIV/0! | N48: indirect total
H49: =SUM(H47:H48) -> #DIV/0! | I49: =SUM(I47:I48) -> 0 | J49: =SUM(J47:J48) -> 0 | K49: =SUM(K47:K48) -> #DIV/0! | L49: =SUM(L47:L48) -> #DIV/0!
...

Sheet Project Plan Summary
A1: Organisation Name: | B1: =IFERROR('Project Plan'!B5," ") -> 0
B3: Your project will be monitored against these targets
A5: Project Plan - Your Overall Project Targets
A6: Direct Activities | B6: Predicted total reach of the activity (including people not in the target group) | C6: =SUMIF('Project Plan'!$C$8:$C$25,'Data Source'!$D$4,'Project Plan'!H$8:H$25) -> 0
B7: Predicted reach to the target group only | C7: =SUMIF('Project Plan'!$C$8:$C$25,'Data Source'!$D$4,'Project Plan'!I$8:I$25) -> 0
A8: Indirect Activities | B8: Predicted total reach of the activity (including people not in the target group) | C8: =SUMIF('Project Plan'!$C$8:$C$25,'Data Source'!$D$3,'Project Plan'!H$8:H$25) -> 0
B9: Predicted reach to the target group only | C9: =SUMIF('Project Plan'!$C$8:$C$25,'Data Source'!$D$3,'Project Plan'!I$8:I$25) -> 0
A10: Training to colleagues/stakeholders | B10: Predicted number of colleagues/stakeholders trained (if applicable) | C10: =SUMIF('Project Plan'!$C$8:$C$25,'Data Source'!$D$8,'Project Plan'!H$8:H$25) -> 0
A12: TOTAL number of people your Project will reach (including people not in the target group) | C12: =C6+C8 -> 0
A13: TOTAL number of people your Project will reach in the target group only | C13: =C7+C9 -> 0
A14: TOTAL number of colleagues/stakeholders trained (if applicable) | C14: =C10 -> 0
A15: Total amount of funding requested from Smart Energy GB | C15: ='Project Plan'!L26 -> 0

Sheet Activity Category Details
A1: Activity Category | B1: Activity Description | C1: Description and Examples
A2: Information displayed in public | B2: Display information in a public place. (e.g posters in a community centre) | C2: Where a partner will place information about smart meters in shops, branches or other buildings accessed by the public, for example: • Information displayed in branches, libraries, community centres, etc. or in-store promotional material • This information might consist of leaflets, stickers, posters, window vinyls or content on in-store screens
A3: Public relations - generating coverage in the media | B3: Generate items in the media (e.g. article in a newspaper or on a news site) | C3: Where a partner will try to encourage information about smart meters in the media, for example: • Editorial, features, articles or inserts placed in newspapers, magazines or local publications • Interviews in the press, on the TV or on the radio
A4: Giving advice | B4: Give advice or have a conversation about smart meters (e.g. advice session, online conversation, or home visit) | C4: Where a partner will give advice to people, for example: • Advice given in person • Advice given by an individual over the phone or online
A5: Events | B5: Give information about smart meters at an event (e.g. talk at a community meeting) | C5: Where a partner will include messaging about smart meters in events, for example: • Events that you organise which are intended to tell people about smart meters, or smart meter workshops/sessions that you run at another event • Examples of events could include public meetings, fairs, shows, coffee mornings, conferences or setting up an information stand at a community centre
A6: Advertising or sponsorship | B6: Place advertising or sponsorship (e.g. advertising on a local radio or in a magazine) | C6: Where a partner will pay for (or receive as a donation) space to advertise smart meters, for example: • Newspaper/magazine adverts • Radio, TV or cinema adverts • Outdoor adverts (e.g. posters, billboards, buses etc.) • Sponsorship of an event, local business, sports team, TV programme etc.
A7: Websites or social media | B7: Publish or post information online (e.g. on your website or social media). Please be careful when estimating the number of people reached through social media - you should use a clear rationale. | C7: Where a partner will provide information on smart meters online, for example: • Information, blogs, links etc. on your own website • Twitter/Facebook posts • Online/digital banner ads or search ads • Online videos (YouTube etc.)
A8: Information distributed to people | B8: Send out letters, leaflets or emails about smart meters | C8: Where a partner will send information directly to people, for example: • Letters/leaflets sent to someone’s address • Emails or e-newsletters you may send to them
A9: Training others - training colleagues and stakeholders | B9: Train stakeholders to share information with their colleagues or delivery partners | C9: Where a partner will deliver training sessions to other individuals or organisations so they can share information about smart meters with their beneficiaries/community members/tenants (i.e. the people their organisation works with), for example: • Organising a course to train smart meter champions • Running a conference or event for staff of a local organisation • Briefing local community groups

Sheet Example - OFFLINE
A1: The Project Plan below has been completed as an example only. It refers to the OFFLINE target group.
A3: What is the activity | B3: What is the activity category? | C3: Direct/Indirect Activity | D3: Activity Type B2C - business to consumer (i.e. activity is delivered to consumers/householders) B2B - business to business (i.e. activity is delivered to professionals) | E3: Activity Start Date | F3: Activity End Date | G3: Where will the activity take place? Please include area if known | H3: Predicted total reach of the activity (including people not in the target group) | I3: Predicted reach to the target group only | J3: Who will be responsible for delivering your activity? | K3: Activity cost £ | L3: Amount requested from Smart Energy GB in Communities £ | M3: Breakdown of costs | N3: Notes
A4: Overheads - maximum 10% of total cost (Optional) | B4: Overheads | K4: =SUM(K5:K15)*0.1 -> 2639.8 | L4: =SUM(L5:L15)*0.1 -> 2269.8 | M4: Overheads
A5: Printing of consumer survey - maximum of £250 (Optional) | B5: Consumer Survey | K5: 250 | L5: 250 | M5: Printing of consumer survey
A6: In-home display unit (IHD) maximum of 2 @ £24 each (Optional) | B6: IHD | K6: 48 | L6: 48 | M6: 2 IHD's required @ £27.00 each
A7: 1-1 telephone advice and support on smart meters | B7: Giving advice | C7: =IFERROR(VLOOKUP($B7,'Data Source'!$A$3:$D$11,4,FALSE),"") -> Direct Activity | D7: B2C | E7: 44287 | F7: 44538 | G7: North East Region | H7: 1500 | I7: 1400 | J7: Affordable Warmth Team | K7: 6000 | L7: 6000 | M7: 3 staff - 300 hours @ £20.00ph | N7: Service supported by trained and experienced volunteers
A8: 30 Older people's coffee morning events - utlising I-pads and IHD's to increase confidence in smart meters and the benefits | B8: Event | C8: =IFERROR(VLOOKUP($B8,'Data Source'!$A$3:$D$11,4,FALSE),"") -> Direct Activity | D8: B2C | E8: 44348 | F8: 44538 | G8: Sunderland | H8: 360 | I8: 320 | J8: Affordable Warmth Team and Sunderland Council Covid Awareness Officer | K8: 6000 | L8: 4250 | M8: 2 staff - 150 hours @£20.00ph, room and refreshments £40.00 per session includes travel and setting up time and PPE
A9: Home visits to provide one to one advice - to remove barriers and ensure access to information | B9: Giving advice | C9: =IFERROR(VLOOKUP($B9,'Data Source'!$A$3:$D$11,4,FALSE),"") -> Direct Activity | D9: B2C | E9: 44348 | F9: 44538 | G9: Newcastle | H9: 300 | I9: 300 | J9: Affordable Warmth Team | K9: 8050 | L9: 8050 | M9: 2 staff - 400 hours @£20.00ph staff including travel time
A10: Smart Meter Myth Busting (one to one/small groups) held in community venues/at existing events. | B10: Event | C10: Direct Activity | D10: B2C | E10: 44440 | F10: 44538 | G10: Sunderland | H10: 370 | I10: 370 | J10: My Organisation UK and Sunderland Council Covid Awareness Officer | K10: 4800 | L10: 3050 | M10: 4 staff - 150 hours @£20.00ph including staff time
A11: Smart Meter Myth Busting leaflets displayed in GP surgeries, Falls clinics, Libraries etc | B11: Information displayed in public | C11: =IFERROR(VLOOKUP($B11,'Data Source'!$A$3:$D$11,4,FALSE),"") -> Indirect Activity | D11: B2C | E11: 44317 | F11: 44530 | G11: Sunderland | H11: 5000 | I11: 3000 | J11: My Organisation UK | K11: 750 | L11: 750 | M11: Engagement and marketing - design, print and distribution of bespoke in-house leaflets (5,000) | N11: (Note: these leaflets are not available on the SEGB resource centre - they are unique to our project
A12: In-house design - Bespoke smart metering leaflet distirbuted to all residents in sheltered accommodation schemes | B12: Information distributed to people | C12: =IFERROR(VLOOKUP($B12,'Data Source'!$A$3:$D$11,4,FALSE),"") -> Indirect Activity | D12: B2C | E12: 44287 | F12: 44531 | G12: Gateshead | H12: 5000 | I12: 3000 | J12: Housing association | K12: 300 | L12: 300 | M12: Engagement and marketing - design, print and distribution of bespoke in-house leaflets (5000 leaflets) | N12: (Note: these leaflets are not available on the SEGB resource centre - they are unique to our project
A13: Smart Home, Smart Life - Training staff | B13: Training colleagues or frontline staff | C13: Training | D13: B2B | E13: 44287 | F13: 44531 | G13: Sunderland | H13: 20 | J13: My Organisation UK | K13: 200 | L13: 0 | M13: In-house training
A14: One off radio segment to raise awareness of smart meter benefits | B14: Advertising or sponsorship | C14: Indirect Activity | D14: B2C | E14: 44378 | F14: 44531 | G14: North East Region | H14: 50000 | I14: 34000 | J14: My Organisation UK | K14: 0 | L14: 0 | M14: In-kind support for the project. Based on average number of listeners to radio show.
C17: =IFERROR(VLOOKUP($B17,'Data Source'!$A$3:$D$11,4,FALSE),"")
A18: Total number of consumers | H18: =SUM(H7:H17) -> 62550 | I18: =SUM(I7:I17) -> 42390 | J18: Total Cost | K18: =SUM(K4:K17) -> 29037.8 | L18: =SUM(L4:L17) -> 24967.8

Sheet Data Source
A1: Activity Category | B1: Activity Type | C1: In-home Display unit | D1: Direct/Indirect | E1: Column1 | F1: Column2 | G1: Column3 | I1: banner stand max £100.00
C2: 27 | I2: printing of consumer survey max £250.00
A3: Advertising or sponsorship | B3: B2C | D3: Indirect Activity | E3: IN | F3: B2C | G3: B2B | I3: Overheads
A4: Event | B4: B2B | D4: Direct Activity | E4: E | F4: B2C | G4: B2C
A5: Giving advice | D5: Direct Activity | E5: 1 | F5: B2C
A6: Information displayed in public | D6: Indirect Activity | E6: IN | F6: B2C
A7: Information distributed to people | D7: Indirect Activity | E7: IN | F7: B2C
A8: Training colleagues or frontline staff | D8: Training | E8: T | F8: B2B
A9: Website or social media | D9: Indirect Activity | E9: IN | F9: B2C
A10: Public relations | D10: Indirect Activity | E10: IN
